BEGIN:VCALENDAR
VERSION:2.0
PRODID:-//Red Dot Events - ECPv6.15.20//NONSGML v1.0//EN
CALSCALE:GREGORIAN
METHOD:PUBLISH
X-WR-CALNAME:Red Dot Events
X-ORIGINAL-URL:https://reddotevents.co
X-WR-CALDESC:Events for Red Dot Events
REFRESH-INTERVAL;VALUE=DURATION:PT1H
X-Robots-Tag:noindex
X-PUBLISHED-TTL:PT1H
BEGIN:VTIMEZONE
TZID:Asia/Dubai
BEGIN:STANDARD
TZOFFSETFROM:+0400
TZOFFSETTO:+0400
TZNAME:+04
DTSTART:20240101T000000
END:STANDARD
END:VTIMEZONE
BEGIN:VEVENT
DTSTART;TZID=Asia/Dubai:20250927T180000
DTEND;TZID=Asia/Dubai:20250927T235900
DTSTAMP:20260422T221856
CREATED:20250820T093354Z
LAST-MODIFIED:20250927T170317Z
UID:9459-1758996000-1759017540@reddotevents.co
SUMMARY:Red Dot Dandiya Beatz 2025
DESCRIPTION:« All Events\n				\n				\n		\n				\n				\n							\n			\n		\n						\n				\n				\n					\n	Red Dot Dandiya Beatz 2025				\n				\n		\n				\n				\n					\n		\n			September 27\, 2025\n\n	\n\n	  @  \n\n\n6:00 pm\n\n		\n\n\n\n	\n	  -  \n\n11:59 pm\n\n\n\n	\n				\n				\n				\n							\n			\n		\n						\n				\n					Below 10 years enter Free				\n				\n							\n			\n		\n						\n				\n					AED 40 + VATBelow 10 years old enter FREE				\n				\n							\n			\n		\n						\n				\n					For Group Discount contact Organiser				\n				\n		\n				\n					Another Exciting Dandiya Coming Up...				\n				\n									\n				\n					\n				\n		\n					\n		\n				\n				\n					\n	\n				\n				\n				\n									Doors Open 06:00 PM Event Start 07:00 PM  Please note: No eating allowed on the green area of the football ground while playing Dandiya. There are dedicated areas for eating at the venue.Only soft-soled\, non-marking footwear is permitted on the venue. Cleats\, high heels\, and hard-soled shoes are strictly prohibited.Please maintain decorum at all times and as per laws of this country.Tickets are non refundable.Terms and Conditions 1. Kids below 10 enter free 2. Red Dot accepts no responsibility for any personal property lost or stolen\, or injury or any losses sustained at the event. 3. Red Dot will not be responsible for any lost or damaged tickets. 4. Event artist lineup is subject to change at any time. 								\n		\n				\n				\n					\n	\n\n		\n		\n		\n\n		\n\n\n		\n\n\n\n	Tickets\n\n		\n	\n	\n		The numbers below include tickets for this event already in your cart. Clicking "Get Tickets" will allow you to edit any existing attendee information as well as change ticket quantities.	\n\n\n		\n		\n		\n	\n		Tickets are no longer available	\n\n\n		\n	\n	\n\n	\n	\n\n	\n	\n\n\n\n			\n\n	\n\n\n				\n				\n				\n				\n		\n		\n				\n				\n					\n				\n				\n	\n	321 Sports – Football\, Opposite Bab Al Noujoum\, Al Hudayriyat Island\, Abu Dhabi\n	\n	\n\n321 Sports - Football\, Opposite Bab Al Noujoum\, Al Hudayriyat Island\n	\n		\n		Abu Dhabi\,\n\n	Abu Dhabi\n\n\n	United Arab Emirates\n\n\n\n\n	+ Google Map \n\n\n	\n					\n						\n	 \n\n\n	\n	 \n\n\n\n	\n\n\n\n		\n	\n				\n				\n				\n				\n					\n	\n		\n\n	\n	Add to calendar	\n		\n	\n\n		\n			\n									\n	Google Calendar\n\n									\n	iCalendar\n\n									\n	Outlook 365\n\n									\n	Outlook Live\n\n							\n		\n\n		\n	\n\n				\n				\n				\n				\n					\n	\n	Organizer\n	Red Dot Events and Exhibitions
URL:https://reddotevents.co/event/red-dot-dandiya-beatz-2025/
LOCATION:321 Sports – Football\, Opposite Bab Al Noujoum\, Al Hudayriyat Island\, Abu Dhabi\, 321 Sports - Football\, Opposite Bab Al Noujoum\, Al Hudayriyat Island\, Abu Dhabi\, Abu Dhabi\, United Arab Emirates
CATEGORIES:Dandiya
ATTACH;FMTTYPE=image/png:https://reddotevents.co/wp-content/uploads/2025/08/presents-1080-x-1520-px-3.png
END:VEVENT
END:VCALENDAR